BEGIN:VCALENDAR
VERSION:2.0
PRODID:-//Kilchberg Aktuell - ECPv6.15.20//NONSGML v1.0//EN
CALSCALE:GREGORIAN
METHOD:PUBLISH
X-WR-CALNAME:Kilchberg Aktuell
X-ORIGINAL-URL:https://kilchberg-aktuell.de
X-WR-CALDESC:Veranstaltungen für Kilchberg Aktuell
REFRESH-INTERVAL;VALUE=DURATION:PT1H
X-Robots-Tag:noindex
X-PUBLISHED-TTL:PT1H
BEGIN:VTIMEZONE
TZID:Europe/Berlin
BEGIN:DAYLIGHT
TZOFFSETFROM:+0100
TZOFFSETTO:+0200
TZNAME:CEST
DTSTART:20250330T010000
END:DAYLIGHT
BEGIN:STANDARD
TZOFFSETFROM:+0200
TZOFFSETTO:+0100
TZNAME:CET
DTSTART:20251026T010000
END:STANDARD
BEGIN:DAYLIGHT
TZOFFSETFROM:+0100
TZOFFSETTO:+0200
TZNAME:CEST
DTSTART:20260329T010000
END:DAYLIGHT
BEGIN:STANDARD
TZOFFSETFROM:+0200
TZOFFSETTO:+0100
TZNAME:CET
DTSTART:20261025T010000
END:STANDARD
BEGIN:DAYLIGHT
TZOFFSETFROM:+0100
TZOFFSETTO:+0200
TZNAME:CEST
DTSTART:20270328T010000
END:DAYLIGHT
BEGIN:STANDARD
TZOFFSETFROM:+0200
TZOFFSETTO:+0100
TZNAME:CET
DTSTART:20271031T010000
END:STANDARD
END:VTIMEZONE
BEGIN:VEVENT
DTSTART;TZID=Europe/Berlin:20260301T130000
DTEND;TZID=Europe/Berlin:20260301T190000
DTSTAMP:20260424T012058
CREATED:20260226T165103Z
LAST-MODIFIED:20260226T165103Z
UID:24581-1772370000-1772391600@kilchberg-aktuell.de
SUMMARY:Wanderung auf dem Pfaffenberg von Oberndorf nach Wurmlingen und Familien-Wanderung "Märchenweg" am Sonntag\, 1. März 2026
DESCRIPTION:Herzliche Wanderung zur \nWanderung auf dem Pfaffenberg von Oberndorf nach Wurmlingen\nam Sonntag\, 1. März 2026 \nWir wandern von Oberndorf aus durch den wunderschönen Wald entlang des Märchenwegs Richtung Wendelsheim.\nWenn das Wetter es erlaubt\, machen wir eine Runde durch den geheimnisvollen Wendelsheimer Steinbruch\, vorbei an Steinabbrüchen\, zum idyllisch gelegenen Märchensee.\nDanach begeben wir uns zum Aussichtspunkt\, wo wir einen herrlichen Blick auf Wendelsheim und in die nähere Umgebung haben. Dort machen wir eine Rast. \nDann geht es weiter\, hinunter nach Wendelsheim bis zur Schule. Dort biegen wir ab und laufen durch idyllische Obstbaumwiesen\, immer mit wunderbarem Blick auf die Wurmlinger Kapelle nach Wurmlingen.\nEinkehr um 17:00 Uhr in Gerry’s Steakhouse in Wurmlingen. \nGutes Schuhwerk und evtl. Wanderstöcke mitbringen. Trittsicherheit an ein paar Stellen im Steinbruch nötig. \nGäste sind natürlich\, wie bei uns stets üblich\, herzlich willkommen! \nWanderführerin Ulrike Forster \nDas Wichtige im Überblick:\nStart der Wanderung: Bushaltestelle Rottenburg-Oberndorf: Rottenburger Straße.\nÖPNV-Anfahrt: Abfahrt Linie 19 von Kilchberg Rathaus 13:18 Uhr\, Umstieg am Freibad Tübingen 13:25 Uhr auf Linie 18 um 13:38 Uhr.\nAbfahrt mit gleichem Bus der Linie 18 von Rottenburg Eugen-Bolz-Platz 13:53 Uhr.\nAnkunft Oberndorf Rottenburger Straße 14:02 Uhr.\nTour-Daten:\nStrecke: 7 – 8 km\, Höhenmeter: 120 m rauf\, 180 m runter\, ins. ca. 2\,5 Stunden\nKosten für Gruppenfahrkarte werden umgelegt. Rottenburger bitte selber organisieren.\nBühler bitte ebenso und tel. Info an S. Bürker. In Kilchberg addieren wir zusammen.\nRückfahrt: Richtung Kilchberg von Wurmlingen Rössle 18:40 Uhr mit Umstieg am Freibad Tübingen 18:49 Uhr auf Linie 19 um 19:01 Uhr. Ankunft Rathaus Kilchberg 19:09 Uhr\,\nAbfahrt Richtung Rottenburg um 18:46 Uhr\, Ankunft Eugen-Bolz-Platz 18:53 Uhr. \nFür Familien haben wir bei gleicher Anfahrt eine kürzere aber \n„märchenhafte und abenteuerliche“ familiengerechte Strecke \nvon Oberndorf nach Wendelsheim geplant. \nWir suchen den Märchenweg\, auf dem wir schöne Kurz-Märchen hören\, mit einem Büchlein Rätsel lösen können und unterwegs Unterhaltsames unternehmen. Natürlich kommen wir dann auch an den ehemaligen Steinbruch und an den Märchensee. Zum Schluss geht’s hinunter nach Wendelsheim\, von wo wir mit der Linie 18 um 16:28 Uhr nach Wurmlingen zur Abendeinkehr oder weiter nach Hause fahren. \nTeile der Strecke sind nicht kinderwagengerecht\, können aber parallel mit geländegängigen Kinderwagen umgangen werden.
URL:https://kilchberg-aktuell.de/event/wanderung-auf-dem-pfaffenberg-von-oberndorf-nach-wurmlingen-und-familien-wanderung-maerchenweg-am-sonntag-1-maerz-2026/
CATEGORIES:Schwäbischer Albverein - OG Kilchberg-Rottenburg,Wanderung
ATTACH;FMTTYPE=image/jpeg:https://kilchberg-aktuell.de/wp-content/uploads/2024/04/Logo-SAV.jpg
ORGANIZER;CN="Schw%C3%A4bischer Albverein Ortsgruppe Kilchberg-Rottenburg":MAILTO:anke-neumann@gmx.net
END:VEVENT
BEGIN:VEVENT
DTSTART;TZID=Europe/Berlin:20260301T170000
DTEND;TZID=Europe/Berlin:20260301T190000
DTSTAMP:20260424T012058
CREATED:20260217T164543Z
LAST-MODIFIED:20260217T164543Z
UID:24478-1772384400-1772391600@kilchberg-aktuell.de
SUMMARY:Vernissage Fotoausstellung "Onser Kilchberg"
DESCRIPTION:Fotoausstellung\nvom 28. Februar bis 12. April 2026 \nmit Vernissage\nam Sonntag\, 1. März 2026\, 17.00Uhr \nDorfscheune Kilchberg\,\nTessinstraße 8\, 72072 Tübingen \nEinführung: 	Klaus Mohr\nMusik:		Ines Hartmann (Gitarre\, Tuba\, Gesang)\,\nBeate Keller (E-Piano\, Gesang)\nBesichtigungstermine:\n12. März\, 		15.00-18.00 Uhr\, Donnerstagscafé\n22. März\,		14.30-17.00 Uhr\, Scheunencafé\nsowie zweimal im Monat mittwochs beim Mittagstisch \nDorfscheune Kilchberg\, Tessinstraße 8\, 72072 Tübingen\nFinissage: Sonntag\, 22. Februar\, 14.30 bis 17 Uhr (nach Scheunencafé)
URL:https://kilchberg-aktuell.de/event/vernissage-fotoausstellung-onser-kilchberg/
LOCATION:Dorfscheune Kilchberg\, Tessinstr. 8\, Tübingen\, 72072\, Deutschland
CATEGORIES:Ausstellung
ATTACH;FMTTYPE=image/png:https://kilchberg-aktuell.de/wp-content/uploads/2026/02/KkRa_Onser-Kilchberg-Fotoausstellung-quer.png
ORGANIZER;CN="PRO Kilchberg":MAILTO:info@prokilchberg.de
END:VEVENT
BEGIN:VEVENT
DTSTART;TZID=Europe/Berlin:20260304T120000
DTEND;TZID=Europe/Berlin:20260304T140000
DTSTAMP:20260424T012058
CREATED:20260226T121739Z
LAST-MODIFIED:20260227T161156Z
UID:24569-1772625600-1772632800@kilchberg-aktuell.de
SUMMARY:Einladung zum Mittagstisch am 04.03.2026
DESCRIPTION:Daheim in Kilchberg lädt alle Kilchberger Bürgerinnen und Bürger ab 65 zum Mittagstisch ein am \nMittwoch\, 04. März 2026\, 12 Uhr\,  in die Dorfscheune Kilchberg. \nEs gibt zwei Gerichte zur Wahl: \n– Bayrische Fleischpflanzerl | Kartoffel-Endivien-Salat | Jus\noder vegetarisch:\n– Quesadilla | Wrap | Gemüse | Avocado | Käse | Tomatensalsa \nEin kleiner Nachtisch und Kaffee oder Tee runden das Angebot ab. \nDas Essen beziehen wir von der Kantine Erbe. Der Unkostenbeitrag beträgt 5 Euro. Gefördert wird der Mittagstisch durch die Stadt Tübingen\, das Land Baden-Württemberg und die Pflegekassen.\nWir bitten um eine verbindliche Anmeldung bis Montag\, 02. März 2026\, 18 Uhr\, an Margrit Schnell-Koch:  E-Mail  Margrit.Schnell-Koch@web.de oder Tel. 07071 74451. Sie können gerne auch auf Band sprechen. Geben Sie an\, welches Gericht Sie wünschen und hinterlassen Sie Ihre Telefonnummer für eventuelle Rückfragen.\nMenschen mit eingeschränkter Mobilität können gerne abgeholt werden.\nWir freuen uns auf Ihr Kommen. \nFür das Team des Kilchberger Mittagstischs\nMargrit Schnell-Koch
URL:https://kilchberg-aktuell.de/event/einladung-zum-mittagstisch-am-04-03-2026/
LOCATION:Dorfscheune Kilchberg\, Tessinstr. 8\, Tübingen\, 72072\, Deutschland
CATEGORIES:Daheim in Kilchberg
ATTACH;FMTTYPE=image/png:https://kilchberg-aktuell.de/wp-content/uploads/2025/12/135.04.25-PE1-StadtLandFunk_Banner.png
END:VEVENT
BEGIN:VEVENT
DTSTART;TZID=Europe/Berlin:20260311T193000
DTEND;TZID=Europe/Berlin:20260311T220000
DTSTAMP:20260424T012058
CREATED:20260310T175908Z
LAST-MODIFIED:20260310T180211Z
UID:24748-1773257400-1773266400@kilchberg-aktuell.de
SUMMARY:Einladung zur Sitzung des Ortschaftsrats Kilchberg
DESCRIPTION:Die nächste öffentliche Sitzung des Ortschaftsrats Kilchberg findet am Mittwoch\, 11. März 2026\, um 19.30 Uhr im Sitzungssaal im Rathaus Kilchberg statt. \nTagesordnung\nÖffentlich \n\n\n\n1.\nMitteilungen\n\n\n2.\nBiotopverbundplanung Universitätsstadt Tübingen\n\n\n3.\nErhöhung der Anzahl der Schließtage in den städtischen Kindertageseinrichtungen ab 2027\n\n\n4.\nZuschüsse im Kulturbereich 2026\n\n\n5.\nZuschüsse an Vereine 2026 im Fachbereich Soziales\n\n\n6.\nBauanträge\n\n\n7.\nAnregungen und Fragen aus der Mitte des Ortschaftsrates\n\n\n8.\nSonstiges\n\n\n\nDie Einwohnerschaft ist herzlich dazu eingeladen. Weitere Informationen zu Ortschaftsratssitzungen/Vorlagen findet man unter www.tuebingen.de – Politik und Gremien.
URL:https://kilchberg-aktuell.de/event/einladung-zur-sitzung-des-ortschaftsrats-kilchberg-2/
LOCATION:[Amtlicher Beitrag] Rathaus Kilchberg Sitzungssaal
END:VEVENT
BEGIN:VEVENT
DTSTART;TZID=Europe/Berlin:20260312T150000
DTEND;TZID=Europe/Berlin:20260312T180000
DTSTAMP:20260424T012058
CREATED:20260311T100532Z
LAST-MODIFIED:20260311T100532Z
UID:24751-1773327600-1773338400@kilchberg-aktuell.de
SUMMARY:Herzliche Einladung zu unserem nächsten Café-Nachmittag am Donnerstag\, 12. März 2026 ab 15 Uhr in der Dorfscheune
DESCRIPTION:Mein Lieblingsrezept – Die schwäbische Maultasche\nMaultaschen in der Suppe\, geschmälzt oder auch modern interpretiert z.B. in einer Tomatensoße schmecken immer\, sommers wie winters. Zusammen mit Kartoffelsalat ist das Maultaschengericht für den Schwaben das absolute „Seelenfutter“.\nMaultaschen selbst gemacht\, wie geht das? Unter der Regie von Karin Sailer beschäftigen wir uns mit Tipps und Tricks rund um die Maultasche. Verraten Sie uns Ihr persönliches Maultaschenrezept oder auch weitere Lieblingsrezepte.\nIhr Donnerstagsteam serviert Kaffee\, Tee und selbstgebackenen Kuchen. Wir freuen uns auf Ihr Kommen. \nAuf Ihr Kommen freut sich Ihr Donnerstagsteam
URL:https://kilchberg-aktuell.de/event/herzliche-einladung-zu-unserem-naechsten-cafe-nachmittag-am-donnerstag-12-maerz-2026-ab-15-uhr-in-der-dorfscheune/
LOCATION:Dorfscheune Kilchberg\, Tessinstr. 8\, Tübingen\, 72072\, Deutschland
END:VEVENT
BEGIN:VEVENT
DTSTART;TZID=Europe/Berlin:20260315T124500
DTEND;TZID=Europe/Berlin:20260315T190000
DTSTAMP:20260424T012058
CREATED:20260313T131840Z
LAST-MODIFIED:20260313T132931Z
UID:24767-1773578700-1773601200@kilchberg-aktuell.de
SUMMARY:Einladung zur Wanderung "Kochartgraben\, Flora im Frühjahr" am Sonntag\, 15. März 2026
DESCRIPTION:Nach der herrlichen Wanderung am Märchensee geht es im Ammertal weiter unter dem Motto: \n         Kochartgraben\, Flora im Frühjahr am Sonntag\, 15. März 2026 \nVom Bahnhof Altingen geht es um 13.35 Uhr durchs mittlere\, sich immer tiefer einschneidende Ammertal nach Reusten. Der Weg bietet am Fuß von drei Teilgebieten des Naturschutzgebiets Kochartgraben/Ammertalhänge die Möglichkeit\, dass wir die erwachende geschützte Flora erleben werden. \n \nIn Reusten geht es steil hinauf ins Wohngebiet Wolfsberg und dann auf der Höhe mit schönem Ausblick auf Schönbuchtrauf und die „blaue Mauer“ der mittleren Schwäbischen Alb hinüber nach Poltringen. Direkt am Wasserschloss vorbei tangieren wir Poltringen kurz\, gehen am kleinen Bach zwischen Blasenberg und Palmberg entlang Richtung Oberndorf\, das wir rechts liegen lassen. \nAuf weiterhin meist nicht geteertem Untergrund erreichen wir das Sportheim Pizzeria A Familia zur Abendeinkehr ab ca. 16.30 Uhr. 18.15 Uhr gehen wir dann zur Bushaltestelle Rottenburger Straße. Gutes Schuhwerk ist wie fast immer sinnvoll. \nGäste sind\, wie bei uns stets üblich\, herzlich willkommen! \nWanderführer Siegfried Bürker \nDas Wichtige im Überblick:\nÖPNV-Anfahrt: Linie 19 von Kilchberg Rathaus 12:48 Uhr (Zustieg auch in Bühl/Weilheim)\, Umstieg am Hauptbahnhof Tübingen auf RB 63 Richtung Herrenberg von 12.58 auf 13.11 Uhr. Zug-Abfahrt mit RB 6 in Rottenburg um 12:44 Uhr. Umstieg von 12.54 auf 13.11 Uhr. Ankunft in Altingen um 13.33 Uhr.\nTour-Daten: Strecke: 9 km\, Höhenmeter: 115 m rauf und 75 m runter\, insg. 3 Stunden\nKösten für Gruppenfahrkarten (ca. 7\,– €) werden umgelegt. Rottenburger bitte selber organisieren.\nRückfahrt: 18.23 Uhr für alle mit Linie 18. Rottenburg Eugen-Bolz-Platz um 18.34 Uhr. Umstieg am Freibad Tübingen 18:49 Uhr auf Linie 19 um 19:01 Uhr.
URL:https://kilchberg-aktuell.de/event/einladung-zur-wanderung-kochartgraben-flora-im-fruehjahr-am-sonntag-15-maerz-2026/
CATEGORIES:Schwäbischer Albverein - OG Kilchberg-Rottenburg
ATTACH;FMTTYPE=image/jpeg:https://kilchberg-aktuell.de/wp-content/uploads/2024/04/Logo-SAV.jpg
ORGANIZER;CN="Schw%C3%A4bischer Albverein Ortsgruppe Kilchberg-Rottenburg":MAILTO:anke-neumann@gmx.net
END:VEVENT
BEGIN:VEVENT
DTSTART;TZID=Europe/Berlin:20260321T151500
DTEND;TZID=Europe/Berlin:20260321T173000
DTSTAMP:20260424T012058
CREATED:20260307T123945Z
LAST-MODIFIED:20260307T123945Z
UID:24646-1774106100-1774114200@kilchberg-aktuell.de
SUMMARY:Hey\, wir sind stark! - Mitmach-Konzert
DESCRIPTION:mit Jörg Sollbach und Fridolin \nHERZLICHE EINLADUNG!\nSamstag\, 21. März 2026\n16.00 bis 17.30 Uhr\nEinlass ab 15.15 Uhr \nDreschschuppen Kilchberg\nTalhäuser Straße 32  \nKinder (ab 3 Jahren):  5\,00 Euro\nErwachsene:               7\,00 Euro\nEs gibt Muffins und Getränke.\nWarme Kleidung empfohlen! ▼ Buslinie 19\, Haltestelle Rathaus\n[pdf-embedder url=“https://kilchberg-aktuell.de/wp-content/uploads/2026/02/CVJM_Sollbach-Mitmachkonzert-Flyer-Rueckseite.pdf“ title=“CVJM_Sollbach Mitmachkonzert Flyer Rückseite“]
URL:https://kilchberg-aktuell.de/event/hey-wir-sind-stark-mitmach-konzert/
LOCATION:Dreschschuppen\, Talhäuser Straße 32\, Kilchberg\, 72072
CATEGORIES:CVJM Kilchberg,Kinder & Jugend,Mitmach-Konzert
ATTACH;FMTTYPE=image/png:https://kilchberg-aktuell.de/wp-content/uploads/2026/02/CVJM_Sollbach-Mitmachkonzert-Plakat-Kopf.png
END:VEVENT
BEGIN:VEVENT
DTSTART;TZID=Europe/Berlin:20260322T190000
DTEND;TZID=Europe/Berlin:20260322T210000
DTSTAMP:20260424T012058
CREATED:20260313T153005Z
LAST-MODIFIED:20260313T153005Z
UID:24774-1774206000-1774213200@kilchberg-aktuell.de
SUMMARY:Offener Tanztreff in der Kilchberger Dorfscheune am Sonntag\, 22.03.2026\, 19 Uhr
DESCRIPTION:Liebe Tänzerinnen und Tänzer\,\nhabt ihr Lust\, eure Tanzschritte zu festigen\, Neues auszuprobieren und euch in lockerer Atmosphäre mit anderen Tanzbegeisterten auszutauschen? Dann laden wir euch herzlich zum offenen Tanztreff ein!\nWas erwartet euch? Ein Abend zum Üben\, Wiederholen\, Experimentieren – ganz ohne Unterricht\, aber mit viel Raum zum gemeinsamen Lernen und gegenseitigen Unterstützen. Willkommen sind Tanzpaare mit Grundkenntnissen – ob Standard\, Latein\, Salsa\, Tango oder andere Tänze – Hauptsache\, die Freude am Tanzen steht im Vordergrund!\nWann: Erster Termin ist am Sonntag\, 25.05.2025\, 19 – 21 Uhr\nAnsprechpartner: Sonja Vasquez Tel.: 07071/409718 und Andreas Fech Tel.: 07071/5668576\nBringt doch gerne eigene Musikwünsche oder Playlists mit!\nFür die anfallende GEMA-Gebühr steht ein Spendenkässle bereit.
URL:https://kilchberg-aktuell.de/event/offener-tanztreff-in-der-kilchberger-dorfscheune-am-sonntag-22-03-2026-19-uhr/
LOCATION:Dorfscheune Kilchberg\, Tessinstr. 8\, Tübingen\, 72072\, Deutschland
END:VEVENT
BEGIN:VEVENT
DTSTART;TZID=Europe/Berlin:20260325T190000
DTEND;TZID=Europe/Berlin:20260325T213000
DTSTAMP:20260424T012058
CREATED:20260308T183818Z
LAST-MODIFIED:20260308T183818Z
UID:24711-1774465200-1774474200@kilchberg-aktuell.de
SUMMARY:Einladung zur Mitgliederversammlung
DESCRIPTION:Liebe Vereinsmitglieder\, \nwir laden Sie herzlich zur Mitgliederversammlung ein\nam Mittwoch\, den 25.03.2026\, um 19.00Uhr\, in der Dorfscheune Kilchberg. \nTagesordnung: \n\nBericht des Vorstands\nKassenbericht\nBericht der Kassenprüfer\nEntlastung des Vorstandes und der Kassenführung\nNeuwahl Kassier\nFragen und Anregungen\n\nAnträge können bis zum 16.03.2025 schriftlich (gerne per E-Mail: info@daheim-in-kilchberg.de) beim Vorstand eingereicht werden. \nWir freuen uns auf Ihr Kommen und grüßen Sie herzlich. \nFür den Vorstand\nGisela Dodillet
URL:https://kilchberg-aktuell.de/event/einladung-zur-mitgliederversammlung/
LOCATION:Dorfscheune Kilchberg\, Tessinstr. 8\, Tübingen\, 72072\, Deutschland
CATEGORIES:Daheim in Kilchberg
ATTACH;FMTTYPE=image/jpeg:https://kilchberg-aktuell.de/wp-content/uploads/2024/04/DaKi_Logo_DaheiminKilchberg16zu9.jpg
END:VEVENT
BEGIN:VEVENT
DTSTART;TZID=Europe/Berlin:20260326T180000
DTEND;TZID=Europe/Berlin:20260326T210000
DTSTAMP:20260424T012058
CREATED:20260319T073345Z
LAST-MODIFIED:20260319T073345Z
UID:24778-1774548000-1774558800@kilchberg-aktuell.de
SUMMARY:Herzliche Einladung zu unserer nächsten Kneipe am Donnerstag\, 26. März ab 18 Uhr in der Dorfscheune
DESCRIPTION:Herzliche Einladung zu einem interessanten Kneipenabend am Donnerstag\, 26. März 2026 um 18 Uhr\nPro Ocean – eine erfolgreiche Umweltinitiative von jungen Menschen\nPro Ocean sammelt dort\, wo andere wegschauen: direkt an den Küsten der Philippinen – von Hand\, täglich und mit einem fest angestellten Team. Über 200 Tonnen Ozeanplastik wurden so bereits geborgen und fachgerecht verwertet. In dieser Präsentation zeigen wir\, wie das Sammeln funktioniert\, warum es weit mehr als Aufräumen ist – welche Wirkung es wirklich hat. Das Projekt wurde von der UN ausgezeichnet und erhielt 2024 den 1. Platz beim deutschen Nachhaltigkeitspreis. Weitere Informationen: www.pro-ocean.org\nDas Donnerstagsteam serviert ein kleines Vesper und freut sich auf Ihr Kommen. \nAuf Ihr Kommen freut sich Ihr Donnerstagsteam
URL:https://kilchberg-aktuell.de/event/herzliche-einladung-zu-unserer-naechsten-kneipe-am-donnerstag-26-maerz-ab-18-uhr-in-der-dorfscheune/
LOCATION:Dorfscheune Kilchberg\, Tessinstr. 8\, Tübingen\, 72072\, Deutschland
END:VEVENT
BEGIN:VEVENT
DTSTART;TZID=Europe/Berlin:20260327T180000
DTEND;TZID=Europe/Berlin:20260327T220000
DTSTAMP:20260424T012058
CREATED:20260325T212043Z
LAST-MODIFIED:20260325T212043Z
UID:24861-1774634400-1774648800@kilchberg-aktuell.de
SUMMARY:Auswirkungen des Klimawandels - Vortrag von Professor Stefan Ruge am Freitag\, 27.03.2026
DESCRIPTION:Pro Kilchberg und Schwäbischer Albverein laden ganz herzlich ein zum Vortrag von Professor Stefan Ruge über das Thema \nAuswirkungen des Klimawandels auf unsere Wälder \nam Freitag\, 27. März 2026 um 19.00 Uhr in der Dorfscheune Kilchberg. \nStefan Ruge war von 1989-2023 Professor für Botanik und Waldbau-Grundlagen an der Hochschule für Forstwirtschaft Rottenburg am Schadenweilerhof. Seit 2023 ist er im Ruhestand. \nStefan Ruge war von 2003 bis 2007 Vorsitzender der damals noch eigenständigen Albvereins-Ortsgruppe Rottenburg. Seit 2012 ist er zuständig für den Wildrosengarten in Rottenburg und seit diesem Jahr 1. Stellvertreter des Vertrauensmanns in unserer fusionierten Ortsgruppe Kilchberg-Rottenburg. \nIm rund 1½-stündigen Vortrag geht Stefan Ruge zunächst auf die Klimaveränderungen in Mitteleuropa seit Beginn der Wetteraufzeichnungen 1881 bis in die Gegenwart ein. \nEin kurzer Rückblick auf unsere Wald-\, Forst- und Nutzungs-Geschichte erklärt den heutigen Zustand unserer Wälder\, die zu 100 % Kulturwälder sind. Der aktuelle Wald-zustand in Deutschland\, Baden-Württemberg und im Landkreis wird erläutert. \nAnschließend wird auf die verschiedenen Klimaszenarien bis zum Jahr 2100 und deren mögliche Auswirkungen auf unsere Wälder eingegangen.\nHierzu werden Waldentwicklungskarten im Rammert bei Kilchberg gezeigt. \nEs werden waldbauliche Handlungsstrategien für unsere Wälder gegeben mit konkreten Baumarten-Empfehlungen. \nSchließlich wird darauf eingegangen\, was jede*r Einzelne und die Gesellschaft tun kann\, um den Klimawandel zu bremsen. \nFragen während und nach dem Vortrag sowie eine lebhafte Diskussion sind ausdrücklich erwünscht! \nDie Dorfscheune ist ab 18.00 Uhr geöffnet und Karin Revellio sorgt für die Bewirtung inkl. Vesper.
URL:https://kilchberg-aktuell.de/event/auswirkungen-des-klimawandels-vortrag-von-professor-stefan-ruge-am-freitag-27-03-2026/
LOCATION:Dorfscheune Kilchberg\, Tessinstr. 8\, Tübingen\, 72072\, Deutschland
CATEGORIES:Schwäbischer Albverein - OG Kilchberg-Rottenburg,Vortrag
ATTACH;FMTTYPE=image/jpeg:https://kilchberg-aktuell.de/wp-content/uploads/2024/04/Logo-SAV.jpg
ORGANIZER;CN="Schw%C3%A4bischer Albverein Ortsgruppe Kilchberg-Rottenburg":MAILTO:anke-neumann@gmx.net
END:VEVENT
BEGIN:VEVENT
DTSTART;TZID=Europe/Berlin:20260328T080000
DTEND;TZID=Europe/Berlin:20260328T120000
DTSTAMP:20260424T012058
CREATED:20260322T181046Z
LAST-MODIFIED:20260322T181046Z
UID:24648-1774684800-1774699200@kilchberg-aktuell.de
SUMMARY:Altpapiersammlung
DESCRIPTION:Liebe Kilchbergerinnen und Kilchberger\,\nam Samstag\, 28. März 2026\, sammeln unsere Teams mit Traktor und Wagen wieder Altpapier in Kilchberg. Bitte stellen Sie Ihr gut gebündeltes Papier ab 8.30 Uhr am Straßenrand bereit.\nSie unterstützen einen reibungslosen Ablauf sehr\, wenn Sie Ihr Altpapier kompakt bündeln oder Kartons komplett befüllen und leere Kartons flach zusammenlegen! Achten Sie bitte darauf\, dass die Einzelbündel unsere Sammlerinnen und Sammler gewichtsmäßig nicht überfordern.\nFerner wird Altpapier nicht mitgenommen\, wenn Plastik oder andere Fremdstoffe darin enthalten sind bzw. das Papier in Plastik verpackt ist.\nWir bedanken uns für Ihre Unterstützung!\nHolger Fischer\, 1. Vorsitzender CVJM Kilchberg
URL:https://kilchberg-aktuell.de/event/altpapiersammlung/
CATEGORIES:Altpapiersammlung
ATTACH;FMTTYPE=image/jpeg:https://kilchberg-aktuell.de/wp-content/uploads/2024/05/CVJM_Altpapier-20221008-unkenntlich-klein.jpg
END:VEVENT
END:VCALENDAR