BEGIN:VCALENDAR
VERSION:2.0
PRODID:-//Kilchberg Aktuell - ECPv6.15.20//NONSGML v1.0//EN
CALSCALE:GREGORIAN
METHOD:PUBLISH
X-ORIGINAL-URL:https://kilchberg-aktuell.de
X-WR-CALDESC:Veranstaltungen für Kilchberg Aktuell
REFRESH-INTERVAL;VALUE=DURATION:PT1H
X-Robots-Tag:noindex
X-PUBLISHED-TTL:PT1H
BEGIN:VTIMEZONE
TZID:Europe/Berlin
BEGIN:DAYLIGHT
TZOFFSETFROM:+0100
TZOFFSETTO:+0200
TZNAME:CEST
DTSTART:20250330T010000
END:DAYLIGHT
BEGIN:STANDARD
TZOFFSETFROM:+0200
TZOFFSETTO:+0100
TZNAME:CET
DTSTART:20251026T010000
END:STANDARD
BEGIN:DAYLIGHT
TZOFFSETFROM:+0100
TZOFFSETTO:+0200
TZNAME:CEST
DTSTART:20260329T010000
END:DAYLIGHT
BEGIN:STANDARD
TZOFFSETFROM:+0200
TZOFFSETTO:+0100
TZNAME:CET
DTSTART:20261025T010000
END:STANDARD
BEGIN:DAYLIGHT
TZOFFSETFROM:+0100
TZOFFSETTO:+0200
TZNAME:CEST
DTSTART:20270328T010000
END:DAYLIGHT
BEGIN:STANDARD
TZOFFSETFROM:+0200
TZOFFSETTO:+0100
TZNAME:CET
DTSTART:20271031T010000
END:STANDARD
END:VTIMEZONE
BEGIN:VEVENT
DTSTART;TZID=Europe/Berlin:20260503T093000
DTEND;TZID=Europe/Berlin:20260503T120000
DTSTAMP:20260424T012222
CREATED:20260123T164025Z
LAST-MODIFIED:20260420T110818Z
UID:24181-1777800600-1777809600@kilchberg-aktuell.de
SUMMARY:Gottesdienste am 3. Mai 2026
DESCRIPTION:  9.30\nMartinskirche Kilchberg: Gottesdienst mit Abendmahl (Pfarrerin Rittberger-Klas)\, Opfer für die Kirchenmusik in unserer Verbundgemeinde\n\n\n11.00\nChristuskirche Hirschau: Konfirmationsgottesdienst mit Abendmahl (Pfarrerin Zähringer)\, Opfer für das Gustav-Adolf-Werk |\n\n\n\nWeiter Termine und Mitteilungen auf der HomePage der Ev. Verbundkirchengemeinde im Tübinger Neckartal
URL:https://kilchberg-aktuell.de/event/gottesdienste-am-8-februar-2026/
LOCATION:Martinskirche\, Nikomedeskirche\, Christuskirche\, Weilheim\, Kilchberg\, Hirschau
CATEGORIES:Ev. Gottesdienst,Ökumene
ATTACH;FMTTYPE=image/png:https://kilchberg-aktuell.de/wp-content/uploads/2026/01/EVK_260115_Gottesdienste-Verbund.png
END:VEVENT
BEGIN:VEVENT
DTSTART;TZID=Europe/Berlin:20260505T150000
DTEND;TZID=Europe/Berlin:20260505T170000
DTSTAMP:20260424T012222
CREATED:20260419T090543Z
LAST-MODIFIED:20260419T090543Z
UID:25020-1777993200-1778000400@kilchberg-aktuell.de
SUMMARY:Offenes Singen in der Kilchberger Dorfscheune
DESCRIPTION:Herzliche Einladung!\nBeim nächsten Offenen Singen am Dienstag\, 5. Mai 2026\, von 15.00 bis 17.00 Uhr in der Kilchberger Dorfscheune* wollen wir – passend zur Jahreszeit – den Mai und den Frühling mit fröhlichen Liedern besingen.\nNeben dem gemeinsamen Singen hat die Geselligkeit ihren festen Platz. Bei Kaffee\, Kaltgetränken und Kleingebäck kann man sich angeregt unterhalten und Neuigkeiten austauschen. Um Ihren/Euren kleinen Verzehrs-Kostenbeitrag wird gebeten.\nWir freuen uns auf Ihr/Euer Kommen!\nIhr/Euer Offenes-Singen-Team vom Stadtteiltreff Kilchberg \nAngebot vom Kilchberger Fahrdienst: Wenn Sie abgeholt werden möchten\, melden Sie sich bitte unter der Telefonnummer 0178 2177950.\n*Tessinstraße 8\, barrierefreier Zugang; Bus Linie 19\, Haltestelle Kilchberg Rathaus
URL:https://kilchberg-aktuell.de/event/offenes-singen-in-der-kilchberger-dorfscheune/
LOCATION:Dorfscheune Kilchberg\, Tessinstr. 8\, Tübingen\, 72072\, Deutschland
CATEGORIES:Offenes Singen,Stadtteiltreff Kilchberg
ATTACH;FMTTYPE=image/png:https://kilchberg-aktuell.de/wp-content/uploads/2025/08/STDS_Logo-Offenes-Singen-gelb-02-scaled.png
END:VEVENT
BEGIN:VEVENT
DTSTART;TZID=Europe/Berlin:20260509T130000
DTEND;TZID=Europe/Berlin:20260509T180000
DTSTAMP:20260424T012222
CREATED:20260413T200622Z
LAST-MODIFIED:20260413T200622Z
UID:24997-1778331600-1778349600@kilchberg-aktuell.de
SUMMARY:Einladung zum 35. Fußballdorfturnier Kilchberg
DESCRIPTION:Liebe Fußballinteressierte\,\nam Samstag\, den 09. Mai findet auf dem Bolzplatz hinter der Grundschule das Fußballdorfturnier statt\, zu dem wir Euch hiermit herzlich einladen. Die exakten Uhrzeiten (oft 13:00 bis ca. 17:30) hängen von der Anzahl der Teams ab und werden in der Woche vor dem Turnier bekanntgegeben. Es geht um den Spaß am Fußball spielen\, dabei zu sein\, sowie das Zuschauen und Anfeuern. Eine besondere Neuerung: Ab diesem Jahr wird das Turnier in gemeinschaftlicher Organisation des Ortes ausgerichtet. Informationen zur Mithilfe/Standeinteilung werden vom CVJM bekannt gegeben – pack also gerne mit an.\nFür das Kleinfeldturnier können maximal 10 Spieler*innen pro Team angemeldet werden. Das Mindestalter beträgt 16 Jahre. Außerdem dürfen maximal 2 aktive Spieler gleichzeitig in einem Team auf dem Feld stehen. Im Frauenfußball aktive Spieler*innen sind von dieser Regel ausgenommen. Gespielt wird mit 5 Feldspieler*innen und einem Torhüter bzw. einer Torhüter*in. \nAnmeldeschluss ist der 03. Mai. Wir bitten um Anmeldung über das folgende Formular: \n           https://forms.office.com/r/Rq5Q6ydB8N \nAuch einzelne Personen ohne Team haben die Möglichkeit\, sich über das Formular für das Kleinfeldturnier zu melden. Wir werden dann versuchen ein bzw. mehrere Teams zu bilden oder die Personen an Teams weiterleiten\, die noch Spieler*innen suchen.\nAls Nebenevent ist wieder ein 8-Meter-Turnier geplant\, wobei sich Teams am Turniertag bis spätestens 15:00 Uhr bei der Turnierleitung anmelden müssen. Die Voraussetzung für das 8-Meter-Turnier ist\, dass sich genug Teams für das Kleinfeldturnier anmelden. Es wird kein alleiniges 8-Meter-Turnier geben. Bezüglich der Spieler*innen gelten die oben beschriebenen Regeln für das Kleinfeldturnier\, allerdings muss ein Team mindestens aus 5 Personen bestehen (5 Schütz*innen\, wobei der Torhüter bzw. die Torhüter*in auch schießen darf).\nAuch das Spiel der Schüler*innen bleibt ein fester Bestandteil des Dorfturniers und soll wie im letzten Jahr am Nachmittag im fortgeschrittenen Turnierverlauf gespielt werden. \nUm 14:30 Uhr wird außerdem ein*e Mitarbeiter*in der Stadt im Mehrzweckraum zur Verfügung stehen\, um sich die Anliegen der 13 bis 17-jährigen Kilchberger*innen anzuhören und zu erörtern\, wie die Attraktivität des Ortes für diese Zielgruppe erhöht werden könnte. \nAnkündigungen zu Kuchenspenden gehen am besten an vorstand@cvjm-kilchberg.de \nWir freuen uns auf rege Beteiligung auf und neben dem Platz. \nLukas Fischer
URL:https://kilchberg-aktuell.de/event/einladung-zum-35-fussballdorfturnier-kilchberg/
CATEGORIES:Dorfturnier
ATTACH;FMTTYPE=image/png:https://kilchberg-aktuell.de/wp-content/uploads/2026/04/Banner-Dorfturnier-2026-e1775855262846.png
END:VEVENT
END:VCALENDAR