BEGIN:VCALENDAR
VERSION:2.0
PRODID:-//Kilchberg Aktuell - ECPv6.15.20//NONSGML v1.0//EN
CALSCALE:GREGORIAN
METHOD:PUBLISH
X-WR-CALNAME:Kilchberg Aktuell
X-ORIGINAL-URL:https://kilchberg-aktuell.de
X-WR-CALDESC:Veranstaltungen für Kilchberg Aktuell
REFRESH-INTERVAL;VALUE=DURATION:PT1H
X-Robots-Tag:noindex
X-PUBLISHED-TTL:PT1H
BEGIN:VTIMEZONE
TZID:Europe/Berlin
BEGIN:DAYLIGHT
TZOFFSETFROM:+0100
TZOFFSETTO:+0200
TZNAME:CEST
DTSTART:20250330T010000
END:DAYLIGHT
BEGIN:STANDARD
TZOFFSETFROM:+0200
TZOFFSETTO:+0100
TZNAME:CET
DTSTART:20251026T010000
END:STANDARD
BEGIN:DAYLIGHT
TZOFFSETFROM:+0100
TZOFFSETTO:+0200
TZNAME:CEST
DTSTART:20260329T010000
END:DAYLIGHT
BEGIN:STANDARD
TZOFFSETFROM:+0200
TZOFFSETTO:+0100
TZNAME:CET
DTSTART:20261025T010000
END:STANDARD
BEGIN:DAYLIGHT
TZOFFSETFROM:+0100
TZOFFSETTO:+0200
TZNAME:CEST
DTSTART:20270328T010000
END:DAYLIGHT
BEGIN:STANDARD
TZOFFSETFROM:+0200
TZOFFSETTO:+0100
TZNAME:CET
DTSTART:20271031T010000
END:STANDARD
END:VTIMEZONE
BEGIN:VEVENT
DTSTART;TZID=Europe/Berlin:20260423T143000
DTEND;TZID=Europe/Berlin:20260423T173000
DTSTAMP:20260423T234840
CREATED:20251001T090710Z
LAST-MODIFIED:20260408T130807Z
UID:22970-1776954600-1776965400@kilchberg-aktuell.de
SUMMARY:Seniorenclub Weilheim
DESCRIPTION:Am Donnerstag\, 23. April 2026\, um 14.30 Uhr trifft sich der Seniorenclub im Gemeindehaus Weilheim (Wilonstr. 60).\nFrau Karin Sailer aus Kilchberg wird uns an diesem Nachmittag die Frage beantworten:\n„Wie kommt das Gelbe in das Ei?“\nZu dieser Veranstaltung des Seniorenclubs Weilheim ergeht an alle eine herzliche Einladung. Kommen Sie und genießen einen Nachmittag in Gemeinschaft. Wir freuen uns immer auf neue Gäste.\nEs besteht die Möglichkeit\, das Bürgerauto in Bühl oder Kilchberg  zu nutzen. Bestellen Sie den Fahrdienst spätestens am Mittwoch zwischen 9.00 und 12.00 Uhr. In Bühl unter der Nummer 0157 58490973 und in Kilchberg unter 0178 2177950. Weitere Infos zum Bürgerauto bei den Rathäusern.\nAuf zahlreiche Teilnahme freut sich das Vorbereitungsteam um Reinhold Eisenhut und Gisela Schmidt. |
URL:https://kilchberg-aktuell.de/event/seniorenclub-weilheim-am-09-10-25-1430/
LOCATION:Weilheim Gemeindehaus\, Wilonstr. 60\, Tü-Weilheim\, 72072
CATEGORIES:Veranstaltung,Zusammentreffen
ATTACH;FMTTYPE=image/png:https://kilchberg-aktuell.de/wp-content/uploads/2025/10/EVK_260110_Kirchengemeinde-Hahn.png
END:VEVENT
BEGIN:VEVENT
DTSTART;TZID=Europe/Berlin:20260425T090000
DTEND;TZID=Europe/Berlin:20260425T110000
DTSTAMP:20260423T234840
CREATED:20260408T131037Z
LAST-MODIFIED:20260408T131202Z
UID:24992-1777107600-1777114800@kilchberg-aktuell.de
SUMMARY:Bibelfrühstück in Weilheim
DESCRIPTION:Sie sind wieder herzlich eingeladen zum Bibelfrühstück im Evang. Gemeindehaus in Weilheim am Samstag\, 25. April\, von 9 – 11 Uhr. Es erwarten Sie neben einem kleinen Frühstück Gespräche und Austausch zu einem biblischen Text
URL:https://kilchberg-aktuell.de/event/bibelfruehstueck-in-weilheim-2/
LOCATION:Weilheim Gemeindehaus\, Wilonstr. 60\, Tü-Weilheim\, 72072
CATEGORIES:Zusammentreffen
END:VEVENT
BEGIN:VEVENT
DTSTART;TZID=Europe/Berlin:20260425T190000
DTEND;TZID=Europe/Berlin:20260425T213000
DTSTAMP:20260423T234840
CREATED:20260419T153313Z
LAST-MODIFIED:20260419T153313Z
UID:25094-1777143600-1777152600@kilchberg-aktuell.de
SUMMARY:Konzert „Fly Away Home“
DESCRIPTION:19:00\nMartinskirche Kilchberg 25. April: Konzert „Fly Away Home“\, Felix Schäfer & Band. Mehr Infos\n\n\n\nWeiter Termine und Mitteilungen auf der HomePage der Ev. Verbundkirchengemeinde im Tübinger Neckartal
URL:https://kilchberg-aktuell.de/event/konzert-fly-away-home/
LOCATION:Kilchberg Martinskirche\, Tessinstraße\, Kilchberg\, 72072\, Germany
CATEGORIES:Konzert
END:VEVENT
BEGIN:VEVENT
DTSTART;TZID=Europe/Berlin:20260426T100000
DTEND;TZID=Europe/Berlin:20260426T200000
DTSTAMP:20260423T234840
CREATED:20260327T201318Z
LAST-MODIFIED:20260408T132320Z
UID:24885-1777197600-1777233600@kilchberg-aktuell.de
SUMMARY:Gottesdienste am 26. April 2026
DESCRIPTION:10.00\nNikomedeskirche Weilheim: Konfirmationsgottesdienst (Vikar Gröger)\, Opfer für das Difäm\n\n\n10.00\nChristuskirche Hirschau: Gottesdienst (Pfarrerin i.R. Schröder)\, Opfer für gesamtkirchliche Aufgaben\n\n\n19.00\nSt. Pankratiuskirche Bühl: Ökumenischer Gottesdienst (Pastoralreferentin Lutz und Paul Reichart)\,\n\n\n\nWeiter Termine und Mitteilungen auf der HomePage der Ev. Verbundkirchengemeinde im Tübinger Neckartal
URL:https://kilchberg-aktuell.de/event/gottesdienste-am-29-maerz-2026/
LOCATION:Martinskirche\, Nikomedeskirche\, Christuskirche\, Weilheim\, Kilchberg\, Hirschau
CATEGORIES:Ev. Gottesdienst
ATTACH;FMTTYPE=image/png:https://kilchberg-aktuell.de/wp-content/uploads/2026/01/EVK_260115_Gottesdienste-Verbund.png
END:VEVENT
BEGIN:VEVENT
DTSTART;TZID=Europe/Berlin:20260430T200000
DTEND;TZID=Europe/Berlin:20260430T213000
DTSTAMP:20260423T234840
CREATED:20260418T222030Z
LAST-MODIFIED:20260418T222141Z
UID:25022-1777579200-1777584600@kilchberg-aktuell.de
SUMMARY:Nachtwanderung in den Mai
DESCRIPTION:Donnerstag\, 30. April 2026\nTreffpunkt: beim Kilchberger Pfarrhaus\, \n                    ca. 15 Minuten nach Ende der Maifeier
URL:https://kilchberg-aktuell.de/event/nachtwanderung-in-den-mai/
CATEGORIES:CVJM Kilchberg,Kinder & Jugend,Maifeier,Nachtwanderung,Wanderung
ATTACH;FMTTYPE=image/png:https://kilchberg-aktuell.de/wp-content/uploads/2026/04/CVJM_Maiwanderung-Plakat-immerwaehrend-scaled.png
END:VEVENT
END:VCALENDAR