BEGIN:VCALENDAR
VERSION:2.0
PRODID:-//Kilchberg Aktuell - ECPv6.15.20//NONSGML v1.0//EN
CALSCALE:GREGORIAN
METHOD:PUBLISH
X-ORIGINAL-URL:https://kilchberg-aktuell.de
X-WR-CALDESC:Veranstaltungen für Kilchberg Aktuell
REFRESH-INTERVAL;VALUE=DURATION:PT1H
X-Robots-Tag:noindex
X-PUBLISHED-TTL:PT1H
BEGIN:VTIMEZONE
TZID:Europe/Berlin
BEGIN:DAYLIGHT
TZOFFSETFROM:+0100
TZOFFSETTO:+0200
TZNAME:CEST
DTSTART:20250330T010000
END:DAYLIGHT
BEGIN:STANDARD
TZOFFSETFROM:+0200
TZOFFSETTO:+0100
TZNAME:CET
DTSTART:20251026T010000
END:STANDARD
BEGIN:DAYLIGHT
TZOFFSETFROM:+0100
TZOFFSETTO:+0200
TZNAME:CEST
DTSTART:20260329T010000
END:DAYLIGHT
BEGIN:STANDARD
TZOFFSETFROM:+0200
TZOFFSETTO:+0100
TZNAME:CET
DTSTART:20261025T010000
END:STANDARD
BEGIN:DAYLIGHT
TZOFFSETFROM:+0100
TZOFFSETTO:+0200
TZNAME:CEST
DTSTART:20270328T010000
END:DAYLIGHT
BEGIN:STANDARD
TZOFFSETFROM:+0200
TZOFFSETTO:+0100
TZNAME:CET
DTSTART:20271031T010000
END:STANDARD
END:VTIMEZONE
BEGIN:VEVENT
DTSTART;TZID=Europe/Berlin:20260301T170000
DTEND;TZID=Europe/Berlin:20260301T190000
DTSTAMP:20260424T030827
CREATED:20260217T164543Z
LAST-MODIFIED:20260217T164543Z
UID:24478-1772384400-1772391600@kilchberg-aktuell.de
SUMMARY:Vernissage Fotoausstellung "Onser Kilchberg"
DESCRIPTION:Fotoausstellung\nvom 28. Februar bis 12. April 2026 \nmit Vernissage\nam Sonntag\, 1. März 2026\, 17.00Uhr \nDorfscheune Kilchberg\,\nTessinstraße 8\, 72072 Tübingen \nEinführung: 	Klaus Mohr\nMusik:		Ines Hartmann (Gitarre\, Tuba\, Gesang)\,\nBeate Keller (E-Piano\, Gesang)\nBesichtigungstermine:\n12. März\, 		15.00-18.00 Uhr\, Donnerstagscafé\n22. März\,		14.30-17.00 Uhr\, Scheunencafé\nsowie zweimal im Monat mittwochs beim Mittagstisch \nDorfscheune Kilchberg\, Tessinstraße 8\, 72072 Tübingen\nFinissage: Sonntag\, 22. Februar\, 14.30 bis 17 Uhr (nach Scheunencafé)
URL:https://kilchberg-aktuell.de/event/vernissage-fotoausstellung-onser-kilchberg/
LOCATION:Dorfscheune Kilchberg\, Tessinstr. 8\, Tübingen\, 72072\, Deutschland
CATEGORIES:Ausstellung
ATTACH;FMTTYPE=image/png:https://kilchberg-aktuell.de/wp-content/uploads/2026/02/KkRa_Onser-Kilchberg-Fotoausstellung-quer.png
ORGANIZER;CN="PRO Kilchberg":MAILTO:info@prokilchberg.de
END:VEVENT
END:VCALENDAR