BEGIN:VCALENDAR
VERSION:2.0
PRODID:-//Kilchberg Aktuell - ECPv6.15.20//NONSGML v1.0//EN
CALSCALE:GREGORIAN
METHOD:PUBLISH
X-WR-CALNAME:Kilchberg Aktuell
X-ORIGINAL-URL:https://kilchberg-aktuell.de
X-WR-CALDESC:Veranstaltungen für Kilchberg Aktuell
REFRESH-INTERVAL;VALUE=DURATION:PT1H
X-Robots-Tag:noindex
X-PUBLISHED-TTL:PT1H
BEGIN:VTIMEZONE
TZID:Europe/Berlin
BEGIN:DAYLIGHT
TZOFFSETFROM:+0100
TZOFFSETTO:+0200
TZNAME:CEST
DTSTART:20250330T010000
END:DAYLIGHT
BEGIN:STANDARD
TZOFFSETFROM:+0200
TZOFFSETTO:+0100
TZNAME:CET
DTSTART:20251026T010000
END:STANDARD
BEGIN:DAYLIGHT
TZOFFSETFROM:+0100
TZOFFSETTO:+0200
TZNAME:CEST
DTSTART:20260329T010000
END:DAYLIGHT
BEGIN:STANDARD
TZOFFSETFROM:+0200
TZOFFSETTO:+0100
TZNAME:CET
DTSTART:20261025T010000
END:STANDARD
BEGIN:DAYLIGHT
TZOFFSETFROM:+0100
TZOFFSETTO:+0200
TZNAME:CEST
DTSTART:20270328T010000
END:DAYLIGHT
BEGIN:STANDARD
TZOFFSETFROM:+0200
TZOFFSETTO:+0100
TZNAME:CET
DTSTART:20271031T010000
END:STANDARD
END:VTIMEZONE
BEGIN:VEVENT
DTSTART;TZID=Europe/Berlin:20260505T150000
DTEND;TZID=Europe/Berlin:20260505T170000
DTSTAMP:20260424T041429
CREATED:20260419T090543Z
LAST-MODIFIED:20260419T090543Z
UID:25020-1777993200-1778000400@kilchberg-aktuell.de
SUMMARY:Offenes Singen in der Kilchberger Dorfscheune
DESCRIPTION:Herzliche Einladung!\nBeim nächsten Offenen Singen am Dienstag\, 5. Mai 2026\, von 15.00 bis 17.00 Uhr in der Kilchberger Dorfscheune* wollen wir – passend zur Jahreszeit – den Mai und den Frühling mit fröhlichen Liedern besingen.\nNeben dem gemeinsamen Singen hat die Geselligkeit ihren festen Platz. Bei Kaffee\, Kaltgetränken und Kleingebäck kann man sich angeregt unterhalten und Neuigkeiten austauschen. Um Ihren/Euren kleinen Verzehrs-Kostenbeitrag wird gebeten.\nWir freuen uns auf Ihr/Euer Kommen!\nIhr/Euer Offenes-Singen-Team vom Stadtteiltreff Kilchberg \nAngebot vom Kilchberger Fahrdienst: Wenn Sie abgeholt werden möchten\, melden Sie sich bitte unter der Telefonnummer 0178 2177950.\n*Tessinstraße 8\, barrierefreier Zugang; Bus Linie 19\, Haltestelle Kilchberg Rathaus
URL:https://kilchberg-aktuell.de/event/offenes-singen-in-der-kilchberger-dorfscheune/
LOCATION:Dorfscheune Kilchberg\, Tessinstr. 8\, Tübingen\, 72072\, Deutschland
CATEGORIES:Offenes Singen,Stadtteiltreff Kilchberg
ATTACH;FMTTYPE=image/png:https://kilchberg-aktuell.de/wp-content/uploads/2025/08/STDS_Logo-Offenes-Singen-gelb-02-scaled.png
END:VEVENT
END:VCALENDAR