BEGIN:VCALENDAR
VERSION:2.0
PRODID:-//Kilchberg Aktuell - ECPv6.15.20//NONSGML v1.0//EN
CALSCALE:GREGORIAN
METHOD:PUBLISH
X-ORIGINAL-URL:https://kilchberg-aktuell.de
X-WR-CALDESC:Veranstaltungen für Kilchberg Aktuell
REFRESH-INTERVAL;VALUE=DURATION:PT1H
X-Robots-Tag:noindex
X-PUBLISHED-TTL:PT1H
BEGIN:VTIMEZONE
TZID:Europe/Berlin
BEGIN:DAYLIGHT
TZOFFSETFROM:+0100
TZOFFSETTO:+0200
TZNAME:CEST
DTSTART:20240331T010000
END:DAYLIGHT
BEGIN:STANDARD
TZOFFSETFROM:+0200
TZOFFSETTO:+0100
TZNAME:CET
DTSTART:20241027T010000
END:STANDARD
BEGIN:DAYLIGHT
TZOFFSETFROM:+0100
TZOFFSETTO:+0200
TZNAME:CEST
DTSTART:20250330T010000
END:DAYLIGHT
BEGIN:STANDARD
TZOFFSETFROM:+0200
TZOFFSETTO:+0100
TZNAME:CET
DTSTART:20251026T010000
END:STANDARD
BEGIN:DAYLIGHT
TZOFFSETFROM:+0100
TZOFFSETTO:+0200
TZNAME:CEST
DTSTART:20260329T010000
END:DAYLIGHT
BEGIN:STANDARD
TZOFFSETFROM:+0200
TZOFFSETTO:+0100
TZNAME:CET
DTSTART:20261025T010000
END:STANDARD
END:VTIMEZONE
BEGIN:VEVENT
DTSTART;TZID=Europe/Berlin:20251127T180000
DTEND;TZID=Europe/Berlin:20251127T210000
DTSTAMP:20260424T141603
CREATED:20251124T162231Z
LAST-MODIFIED:20251124T162231Z
UID:23526-1764266400-1764277200@kilchberg-aktuell.de
SUMMARY:Gestecke basteln für's Adventsingen
DESCRIPTION:Basteln der Gestecke im CVJM-Heim in Kilchberg\, Am Pfarrgarten 7\,\nam Donnerstag\, 27. November 2025\, ab 18.00 Uhr. \nBitte meldet Euch bei Carmen Speidel an (Telefon 07071 78638 oder C_Speidel@web.de).\nJede helfende Hand wird gebraucht und ist herzlich willkommen!\n[pdf-embedder url=“https://kilchberg-aktuell.de/wp-content/uploads/2025/11/CVJM_Adventsingen-2025-Plakat.pdf“ title=“CVJM_Adventsingen 2025 Plakat“]
URL:https://kilchberg-aktuell.de/event/gestecke-basteln-fuers-adventsingen/
LOCATION:CVJM-Heim Kilchberg\, Am Pfarrgarten 7\, Kilchberg\, 72072\, Deutschland
ATTACH;FMTTYPE=image/jpeg:https://kilchberg-aktuell.de/wp-content/uploads/2024/11/CVJM_Adventsgesteck-02-pinterest-scaled.jpg
END:VEVENT
BEGIN:VEVENT
DTSTART;TZID=Europe/Berlin:20251128T170000
DTEND;TZID=Europe/Berlin:20251128T203000
DTSTAMP:20260424T141603
CREATED:20251124T162205Z
LAST-MODIFIED:20251124T162205Z
UID:23527-1764349200-1764361800@kilchberg-aktuell.de
SUMMARY:Adventsingen in Kilchberg
DESCRIPTION:Singen in Kilchberg:\nTreffpunkt am Freitag\, 28. November 2025\, um 17.00 Uhr im CVJM-Heim. \nIn Kilchberg wollen wir mit fünf Gruppen unterwegs sein.\nDamit die Toureinteilung gut klappt\, bitten wir um Anmeldung (Anzahl der teilnehmenden Personen) bis Dienstag\, 25. November 2025\, bei Beate Keller telefonisch unter 72062 oder per Mail an b.keller@cvjm-kilchberg.de.\n[pdf-embedder url=“https://kilchberg-aktuell.de/wp-content/uploads/2025/11/CVJM_Adventsingen-2025-Plakat.pdf“ title=“CVJM_Adventsingen 2025 Plakat“]
URL:https://kilchberg-aktuell.de/event/adventsingen-in-kilchberg/
LOCATION:CVJM-Heim Kilchberg\, Am Pfarrgarten 7\, Kilchberg\, 72072\, Deutschland
ATTACH;FMTTYPE=image/jpeg:https://kilchberg-aktuell.de/wp-content/uploads/2024/11/CVJM_Adventsgesteck-02-pinterest-scaled.jpg
END:VEVENT
END:VCALENDAR